BEGIN:VCALENDAR
VERSION:2.0
PRODID:-//The Ranulf Higden Society - ECPv4.8.2//NONSGML v1.0//EN
CALSCALE:GREGORIAN
METHOD:PUBLISH
X-WR-CALNAME:The Ranulf Higden Society
X-ORIGINAL-URL:https://ranulfhigdensoc.org
X-WR-CALDESC:Events for The Ranulf Higden Society
BEGIN:VEVENT
DTSTART;TZID=UTC+0:20210130T104500
DTEND;TZID=UTC+0:20210130T153000
DTSTAMP:20260421T142828
CREATED:20210124T193538Z
LAST-MODIFIED:20210124T193538Z
UID:228-1612003500-1612020600@ranulfhigdensoc.org
SUMMARY:Zoom Meeting\, Saturday 30 January 2021\, 10.45am-3.30pm
DESCRIPTION:The Society would like to invite its members and others to the following talks: \nDr Vanessa Greatorex \n‘Assault\, Debt and Defamation: Chester’s Medieval Court Records’ \n& \nDr   Simon Harris (Hon. Senior Research Fellow in History\, Keele University) \n‘Reading Military Records: The War of Saint Sardos\, 1324-5’ \nIf you wish to attend please contact the secretary on ranulfhigdensoc@gmail.com for the Zoom link details. It is free to members. \nIf you have problems connecting to the meeting please text or ring the following number: 07985 872 602. Try to connect as early as possible since the meeting will start at 11.00am. \nThere will be a break for lunch at around 12.15 after the morning talk\, and the meeting will resume again at 1.30pm. The AGM for the Society will be held during the lunch break. \nIf you do decide to attend the meeting\, please keep your video switched off at all times\, and activate the audio only if you have an issue with your Zoom connection. This will help with the smooth running of the Zoom meeting. If you wish to ask one of the speakers a question please use the chat facility which will be made available to you in Zoom\, and it will be answered after the end of the talk. \n
URL:https://ranulfhigdensoc.org/event/zoom-meeting-saturday-30-january-2021-10-45am-3-30pm
END:VEVENT
END:VCALENDAR