BEGIN:VCALENDAR
VERSION:2.0
PRODID:-//The Ranulf Higden Society - ECPv4.8.2//NONSGML v1.0//EN
CALSCALE:GREGORIAN
METHOD:PUBLISH
X-WR-CALNAME:The Ranulf Higden Society
X-ORIGINAL-URL:https://ranulfhigdensoc.org
X-WR-CALDESC:Events for The Ranulf Higden Society
BEGIN:VEVENT
DTSTART;TZID=UTC+0:20201031T103000
DTEND;TZID=UTC+0:20201031T153000
DTSTAMP:20260421T161130
CREATED:20191021T220514Z
LAST-MODIFIED:20200930T131618Z
UID:194-1604140200-1604158200@ranulfhigdensoc.org
SUMMARY:Meeting 3: Sydney Jones Library\, University of Liverpool\, Saturday 31 October 2020. EVENT POSTPONED INDEFINITELY
DESCRIPTION:The following meeting has had to be postponed indefinitely because of the Covid-19 restrictions. Further details will be made available when it becomes possible to hold meetings again safely. \nProfessor Deborah Youngs (University of Swansea) ‘Cheshire and the Star Chamber’. \n& \nDr Simon J. Harris (Hon. Res. Fellow\, Keele University) ‘Reading Military Records: The War of Saint Sardos\, 1324-5’ \n
URL:https://ranulfhigdensoc.org/event/meeting-3-sydney-jones-library-university-of-liverpool-saturday-31-october-2020
LOCATION:Sydney Jones Library\, University of Liverpool
END:VEVENT
END:VCALENDAR