BEGIN:VCALENDAR
VERSION:2.0
PRODID:-//The Ranulf Higden Society - ECPv4.8.2//NONSGML v1.0//EN
CALSCALE:GREGORIAN
METHOD:PUBLISH
X-WR-CALNAME:The Ranulf Higden Society
X-ORIGINAL-URL:https://ranulfhigdensoc.org
X-WR-CALDESC:Events for The Ranulf Higden Society
BEGIN:VEVENT
DTSTART;TZID=UTC+0:20211023T104500
DTEND;TZID=UTC+0:20211023T150000
DTSTAMP:20260421T093621
CREATED:20211013T211745Z
LAST-MODIFIED:20211018T190035Z
UID:259-1634985900-1635001200@ranulfhigdensoc.org
SUMMARY:Meeting 3: held by Zoom. Saturday 23 October 2021
DESCRIPTION:Morning Session: 11.00-12.15 \nDr Marigold Norbye (UCL) \n‘Diagrams for history and propaganda: genealogical trees and chronicles of the kings of France in the Hundred Years’ War.’ \nAfternoon Session: 13.30-15.00 \nDr Sian Foster (Oxford Medieval Texts) \n‘Gregory\, Whitby and St Gallen in St Gallen 567: the enigma of survival’ \nThere will be a lunch break from 12.15 to 13.30\, and we usually try to hold a short AGM during part of that time during the October meeting. \nTo attend the meeting you will need to be a member and the relevant Zoom meeting details can be obtained from the secretary via email: ranulfhidensoc@gmail.com (members will have had the details emailed to them). \n
URL:https://ranulfhigdensoc.org/event/meeting-3-held-by-zoom-saturday-23-october-2021
END:VEVENT
END:VCALENDAR