BEGIN:VCALENDAR
VERSION:2.0
PRODID:-//The Ranulf Higden Society - ECPv4.8.2//NONSGML v1.0//EN
CALSCALE:GREGORIAN
METHOD:PUBLISH
X-WR-CALNAME:The Ranulf Higden Society
X-ORIGINAL-URL:https://ranulfhigdensoc.org
X-WR-CALDESC:Events for The Ranulf Higden Society
BEGIN:VEVENT
DTSTART;TZID=UTC+0:20190406T103000
DTEND;TZID=UTC+0:20190406T153000
DTSTAMP:20260425T110016
CREATED:20190404T150728Z
LAST-MODIFIED:20190404T150748Z
UID:30-1554546600-1554564600@ranulfhigdensoc.org
SUMMARY:Meeting 2: Sydney Jones Library\, University of Liverpool\, Saturday 6 April 2019
DESCRIPTION:Nigel Coulton \n‘As the Bishop said to the Nun. Relations between Roger Northburgh\, Bishop of Coventry and Lichfield in the fourteenth century\, and the nunneries in his diocese as revealed by the correspondence in his Register’ \n& \nDr   Lisa Liddy (University of Winchester) \n‘Creating Emotion in York Wills\, 1400-1600: new methodologies for testamentary material’ \n
URL:https://ranulfhigdensoc.org/event/meeting-2-sydney-jones-library-university-of-liverpool-saturday-6-april-2019
END:VEVENT
END:VCALENDAR