BEGIN:VCALENDAR
VERSION:2.0
PRODID:-//The Ranulf Higden Society - ECPv4.8.2//NONSGML v1.0//EN
CALSCALE:GREGORIAN
METHOD:PUBLISH
X-WR-CALNAME:The Ranulf Higden Society
X-ORIGINAL-URL:https://ranulfhigdensoc.org
X-WR-CALDESC:Events for The Ranulf Higden Society
BEGIN:VEVENT
DTSTART;TZID=UTC+0:20200208T103000
DTEND;TZID=UTC+0:20200208T153000
DTSTAMP:20260425T140457
CREATED:20190611T092706Z
LAST-MODIFIED:20190611T092706Z
UID:160-1581157800-1581175800@ranulfhigdensoc.org
SUMMARY:MDRG: Saturday 8 February 2020\, The Sydney Jones Library\, University of Liverpool
DESCRIPTION:Meeting for groups working on the transcription and translation of original documents. \nNew members are always welcome\, and help and tuition is available. \n
URL:https://ranulfhigdensoc.org/event/mdrg-saturday-8-february-2020-the-sydney-jones-library-university-of-liverpool
LOCATION:Sydney Jones Library\, University of Liverpool
END:VEVENT
END:VCALENDAR